

BEGIN:VCALENDAR
VERSION:2.0
PRODID:-//Oficina de Orientación - ECPv6.15.17//NONSGML v1.0//EN
CALSCALE:GREGORIAN
METHOD:PUBLISH
X-ORIGINAL-URL:https://orientacion.ucr.ac.cr
X-WR-CALDESC:Eventos para Oficina de Orientación
REFRESH-INTERVAL;VALUE=DURATION:PT1H
X-Robots-Tag:noindex
X-PUBLISHED-TTL:PT1H
BEGIN:VTIMEZONE
TZID:UTC
BEGIN:STANDARD
TZOFFSETFROM:+0000
TZOFFSETTO:+0000
TZNAME:UTC
DTSTART:20250101T000000
END:STANDARD
END:VTIMEZONE
BEGIN:VTIMEZONE
TZID:America/Costa_Rica
BEGIN:STANDARD
TZOFFSETFROM:-0600
TZOFFSETTO:-0600
TZNAME:CST
DTSTART:20250101T000000
END:STANDARD
END:VTIMEZONE
BEGIN:VEVENT
DTSTART;TZID=UTC:20260421T090000
DTEND;TZID=UTC:20260421T150000
DTSTAMP:20260420T170104
CREATED:20260415T202732Z
LAST-MODIFIED:20260415T202937Z
UID:43586-1776762000-1776783600@orientacion.ucr.ac.cr
SUMMARY:Semana U-Abriendo puertas
DESCRIPTION:¿Querés conocer información acerca de las carreras de la U?\n\n\n\n\n\n\n\n\n\n \n\n\n\n\nEsta Semana U estamos\, ¡Abriendo puertas!\n\n\n¿Querés conocer información acerca de las carreras de la U?\n\n\n\nHabilidades\nTareas típicas\nCaracterísticas\nY además tomarte una foto con la carrera que te representa.\n\n\n\nTe dejamos la información para que llegués\n\n\n¿Cuándo?: Martes 21 de abril\n¿Hora?: De 9:00 a.m. a 3:00 p.m.\n\n\n¿Dónde?: Sala 1 Biblioteca Carlos Monge Alfaro
URL:https://orientacion.ucr.ac.cr/evento/semana-u-abriendo-puertas/
LOCATION:Sala 1 Biblioteca Carlos Monge Alfaro
CATEGORIES:Activos
ATTACH;FMTTYPE=image/png:https://orientacion.ucr.ac.cr/wp-content/uploads/2023/05/COVO-color-actividades.png
END:VEVENT
BEGIN:VEVENT
DTSTART;TZID=America/Costa_Rica:20260422T110000
DTEND;TZID=America/Costa_Rica:20260422T130000
DTSTAMP:20260420T170104
CREATED:20260409T165114Z
LAST-MODIFIED:20260409T165114Z
UID:43511-1776855600-1776862800@orientacion.ucr.ac.cr
SUMMARY:Conectando caminos
DESCRIPTION:Actividad: Conectando caminos\n\n\n \n\n\nCompartí\, conectá con otras personas y fortalecé tu proceso de adaptación a la vida universitaria.\n\n\n\nFecha:  Miércoles 22 de abril\nHora: 11:00 a. m. a 1:00 p. m.\nLugar: Salón Multiusos\, Estudios Generales\, UCR\n\n\n\n\nTenés hasta el 10 de abril\, 2026 ¡Confirmá tu participación!\n\nInscríbete aquí: https://bit.ly/ConectandoCaminosUCR\n\n\n\n*Un espacio de encuentro para estudiantes de primer ingreso con el beneficio de reubicación geográfica.\n—\nOficina de Becas\, UCR (Sitio Oficial)\nBienestar y Salud UCR\nOficina de Orientación UCR
URL:https://orientacion.ucr.ac.cr/evento/conectando-caminos/
LOCATION:Salón Multiuso de la Escuela de Generales
CATEGORIES:Activos
ATTACH;FMTTYPE=image/png:https://orientacion.ucr.ac.cr/wp-content/uploads/2022/06/LogoVive.png
END:VEVENT
BEGIN:VEVENT
DTSTART;TZID=UTC:20260422T150000
DTEND;TZID=UTC:20260422T170000
DTSTAMP:20260420T170104
CREATED:20260415T203504Z
LAST-MODIFIED:20260415T203540Z
UID:43589-1776870000-1776877200@orientacion.ucr.ac.cr
SUMMARY:Semana U-Decora tu propio totebag
DESCRIPTION:¿Quieres decorar tu propio totebag?\n\n\n\n\n\n\n\n\n\n \n\n\n\n\nEsta Semana U estamos SOY ESTUDIANTE UCR\n\n\n\n\n¿Querés decorar tu propio totebag?\n\n\nMientras lo decoramos\, conversemos de nuestra identidad UCR y nuestros valores!\n\n\n\n\n\n\n\n¿Cuándo?: Miércoles 22 de Abril\n¿Hora?: De 9:00 p.m. a 5:00 p.m.\n\n\n¿Dónde?: Sala Colibrí\, Oficina de Orientación (a un costado del antiguo comedor estudiantil)\nInscríbete aquí
URL:https://orientacion.ucr.ac.cr/evento/semana-u-decora-tu-propio-totebag/
LOCATION:Sala Colibrí\, Oficina de Orientación
CATEGORIES:Activos
ATTACH;FMTTYPE=image/png:https://orientacion.ucr.ac.cr/wp-content/uploads/2022/06/OOLoguito.png
END:VEVENT
BEGIN:VEVENT
DTSTART;TZID=America/Costa_Rica:20260422T170000
DTEND;TZID=America/Costa_Rica:20260422T190000
DTSTAMP:20260420T170104
CREATED:20240628T201136Z
LAST-MODIFIED:20260420T212912Z
UID:36812-1776877200-1776884400@orientacion.ucr.ac.cr
SUMMARY:Repaso 1 MA-1021- Cálculo para Ciencias Económicas
DESCRIPTION:I MA-1021-Cálculo para Ciencias Económicas I Parcial\n\n\n\n\n\n\n\n\n\n\n\n\n\n\n \nDirigido a toda la población UCR de todas las sedes y recintos. \nModalidad Virtual\, plataforma Teams\n\nRepaso 1\nTema 1: Aplicación de Funciones y Progresiones\nHorario: Miércoles 22 de abril de 5:00 p.m. a 7:00 p.m.\nEnlace: Ingresa a la sesión aquí\n\nInformación: 2511-8776
URL:https://orientacion.ucr.ac.cr/evento/repaso-iii-ma-1021-calculo-para-ciencias-economicas/
LOCATION:Vía Teams
CATEGORIES:Activos
ATTACH;FMTTYPE=image/png:https://orientacion.ucr.ac.cr/wp-content/uploads/2023/05/CASE-color-actividades.png
END:VEVENT
BEGIN:VEVENT
DTSTART;TZID=America/Costa_Rica:20260428T140000
DTEND;TZID=America/Costa_Rica:20260428T150000
DTSTAMP:20260420T170104
CREATED:20250909T175722Z
LAST-MODIFIED:20260413T152852Z
UID:41531-1777384800-1777388400@orientacion.ucr.ac.cr
SUMMARY:Girasol-Técnicas efectivas de búsqueda de información
DESCRIPTION:Charla Práctica: Técnicas efectivas de búsqueda de información\n\n \n\n\n\n\n\n\n\n\n\n\n\n\n\n\n\n\n\n\n\n\n\n\n\n\n\n\n\n\nSi sos C6 de la Sede Rodrigo Facio\, te invitamos a participar en esta charla práctica: Técnicas efectivas de búsqueda de información\n\n\nFecha: Martes 28 de abril 3:00 pm\n\n\nInscripción previa:  https://orientacion.ucr.ac.cr/apoyos-para-primer-ingreso/#ciclos\n\n\nInformación: 2511-3414
URL:https://orientacion.ucr.ac.cr/evento/girasol-tecnicas-efectivas-de-busqueda-de-informacion-2/
LOCATION:Virtual
CATEGORIES:Activos
ATTACH;FMTTYPE=image/png:https://orientacion.ucr.ac.cr/wp-content/uploads/2023/05/GirasolIco.png
END:VEVENT
BEGIN:VEVENT
DTSTART;TZID=America/Costa_Rica:20260429T170000
DTEND;TZID=America/Costa_Rica:20260429T190000
DTSTAMP:20260420T170104
CREATED:20260420T212950Z
LAST-MODIFIED:20260420T212950Z
UID:43636-1777482000-1777489200@orientacion.ucr.ac.cr
SUMMARY:Repaso 2 MA-1021- Cálculo para Ciencias Económicas
DESCRIPTION:I MA-1021-Cálculo para Ciencias Económicas I Parcial\n\n\n\n\n\n\n\n\n\n\n\n\n\n\n \nDirigido a toda la población UCR de todas las sedes y recintos. \nModalidad Virtual\, plataforma Teams\n\n\n\nRepaso 2\nTema 2: Límites y Continuidad\nHorario: Miércoles 29 de abril de 5:00 p.m. a 7:00 p.m.\nEnlace: Ingresa a la sesión aquí\n  \nInformación: 2511-8776
URL:https://orientacion.ucr.ac.cr/evento/repaso-2-ma-1021-calculo-para-ciencias-economicas/
LOCATION:Vía Teams
CATEGORIES:Activos
ATTACH;FMTTYPE=image/png:https://orientacion.ucr.ac.cr/wp-content/uploads/2023/05/CASE-negro-actividades.png
END:VEVENT
END:VCALENDAR