

BEGIN:VCALENDAR
VERSION:2.0
PRODID:-//Oficina de Orientación - ECPv6.15.17//NONSGML v1.0//EN
CALSCALE:GREGORIAN
METHOD:PUBLISH
X-WR-CALNAME:Oficina de Orientación
X-ORIGINAL-URL:https://orientacion.ucr.ac.cr
X-WR-CALDESC:Eventos para Oficina de Orientación
REFRESH-INTERVAL;VALUE=DURATION:PT1H
X-Robots-Tag:noindex
X-PUBLISHED-TTL:PT1H
BEGIN:VTIMEZONE
TZID:America/Costa_Rica
BEGIN:STANDARD
TZOFFSETFROM:-0600
TZOFFSETTO:-0600
TZNAME:CST
DTSTART:20240101T000000
END:STANDARD
END:VTIMEZONE
BEGIN:VEVENT
DTSTART;TZID=America/Costa_Rica:20250611T140000
DTEND;TZID=America/Costa_Rica:20250611T150000
DTSTAMP:20260420T151057
CREATED:20250610T164101Z
LAST-MODIFIED:20250610T164101Z
UID:40322-1749650400-1749654000@orientacion.ucr.ac.cr
SUMMARY:Taller: ¡Tu voz cuenta!
DESCRIPTION:Taller: Perspectiva de la comunidad estudiantil\n\n\n \n¡Tu voz cuenta! \nLa Unidad de Equidad e Igualdad de Género y Casa Infantil Universitaria te invitan al taller: “Hacia una política de corresponsabilidad de cuidados en la UCR: Perspectiva de la comunidad estudiantil”\nConstruyamos en conjunto acciones que reconozcan la importancia de las tareas de cuidado para el funcionamiento de nuestra Universidad\, promuevan la corresponsabilidad social\, ayuden a reducir las disparidades históricas en la distribución de estas tareas y contribuyan al bienestar tanto de quienes cuidan como de quienes necesitan ser cuidados dentro de la comunidad estudiantil. \nTu experiencia y tus ideas son clave para hacer una UCR comprometida con el derecho al cuidado y al estudio. ¡Te esperamos! \nInformación de la actividad: \n\n\nMiércoles 11 de junio a las 2:00 p.m.\nVía Zoom: https://udecr.zoom.us/j/84149442514…\nID de reunión: 841 4944 2514\nCódigo de acceso: 275201\n\n\n 
URL:https://orientacion.ucr.ac.cr/evento/taller-tu-voz-cuenta/
LOCATION:Vía Zoom
CATEGORIES:Activos
ATTACH;FMTTYPE=image/png:https://orientacion.ucr.ac.cr/wp-content/uploads/2023/05/CIU-color-actividades.png
END:VEVENT
END:VCALENDAR