

BEGIN:VCALENDAR
VERSION:2.0
PRODID:-//Oficina de Orientación - ECPv6.15.17//NONSGML v1.0//EN
CALSCALE:GREGORIAN
METHOD:PUBLISH
X-WR-CALNAME:Oficina de Orientación
X-ORIGINAL-URL:https://orientacion.ucr.ac.cr
X-WR-CALDESC:Eventos para Oficina de Orientación
REFRESH-INTERVAL;VALUE=DURATION:PT1H
X-Robots-Tag:noindex
X-PUBLISHED-TTL:PT1H
BEGIN:VTIMEZONE
TZID:America/Costa_Rica
BEGIN:STANDARD
TZOFFSETFROM:-0600
TZOFFSETTO:-0600
TZNAME:CST
DTSTART:20230101T000000
END:STANDARD
END:VTIMEZONE
BEGIN:VEVENT
DTSTART;TZID=America/Costa_Rica:20241104T140000
DTEND;TZID=America/Costa_Rica:20241104T150000
DTSTAMP:20260424T162336
CREATED:20241104T155201Z
LAST-MODIFIED:20241104T161051Z
UID:38008-1730728800-1730732400@orientacion.ucr.ac.cr
SUMMARY:Girasol-Charla Virtual: Guía para mejorar la ortografía
DESCRIPTION:Girasol: caja de herramientas académicas\n\n \n\n\n\n\n\nGuía para mejorar la ortografía\n\n\n\n\nSi sos C4 de la Sede Rodrigo Facio y al redactar tenés dificultades con la ortografía\, te invitamos a participar en esta charla virtual. \n\n\n\n\n\n \n\n\nTenemos dos horarios disponibles: \n\nLunes 4 de noviembre 14:00\nMiércoles 6 de noviembre 11:00\n\n\n\nRequiere inscripción previa: Inscríbete aquí\nInformación: 2511-3414
URL:https://orientacion.ucr.ac.cr/evento/girasol-charla-virtual-guia-para-mejorar-la-ortografia/
LOCATION:Virtual
CATEGORIES:Activos
ATTACH;FMTTYPE=image/png:https://orientacion.ucr.ac.cr/wp-content/uploads/2023/05/GirasolIco.png
END:VEVENT
BEGIN:VEVENT
DTSTART;TZID=America/Costa_Rica:20241111T193000
DTEND;TZID=America/Costa_Rica:20241111T203000
DTSTAMP:20260424T162336
CREATED:20241104T155813Z
LAST-MODIFIED:20241111T153913Z
UID:38011-1731353400-1731357000@orientacion.ucr.ac.cr
SUMMARY:Girasol-Charla Virtual: El ABC de la redacción
DESCRIPTION:Girasol: caja de herramientas académicas\n\n \n\n\n\n\n\nEl ABC de la redacción\n\n\n\n\nTratás de poner por escrito tus ideas\, pero sentís que no lo estás logrando\, esta charla virtual es para vos. \n\n\n\n\n\n \n\n\n\nTenemos dos horarios disponibles: \n\nLunes 11 de noviembre 19:30\nMiércoles 13 de noviembre 17:00\n\n\n\nRequiere inscripción previa: Inscríbete aquí\nInformación: 2511-3414
URL:https://orientacion.ucr.ac.cr/evento/girasol-charla-virtual-el-abc-de-la-redaccion-2/
LOCATION:Virtual
CATEGORIES:Activos
ATTACH;FMTTYPE=image/png:https://orientacion.ucr.ac.cr/wp-content/uploads/2023/05/GirasolIco.png
END:VEVENT
BEGIN:VEVENT
DTSTART;TZID=America/Costa_Rica:20241112T140000
DTEND;TZID=America/Costa_Rica:20241112T150000
DTSTAMP:20260424T162336
CREATED:20241104T160854Z
LAST-MODIFIED:20241111T154720Z
UID:38021-1731420000-1731423600@orientacion.ucr.ac.cr
SUMMARY:Charla "Herramientas para gestionar el malestar emocional"
DESCRIPTION:  \n \nHerramientas para gestionar el malestar emocional\nSi sos estudiante C4\, ¡esta información es para vos! \nSi estás llevando algún curso de la Escuela de Estudios Generales en la Sede Rodrigo Facio y quieres aprender a manejar mejor tus emociones o fortalecer tu bienestar personal\, te invitamos a participar en esta charla virtual. \nSerá el día martes 12 de noviembre a las 2:00 pm a través de teams: Inscríbete aquí
URL:https://orientacion.ucr.ac.cr/evento/charla-herramientas-para-gestionar-el-malestar-emocional/
LOCATION:Virtual
CATEGORIES:Activos
ATTACH;FMTTYPE=image/png:https://orientacion.ucr.ac.cr/wp-content/uploads/2023/05/CASE-color-actividades.png
END:VEVENT
BEGIN:VEVENT
DTSTART;TZID=America/Costa_Rica:20241120T170000
DTEND;TZID=America/Costa_Rica:20241120T180000
DTSTAMP:20260424T162336
CREATED:20241111T153824Z
LAST-MODIFIED:20241111T153824Z
UID:38045-1732122000-1732125600@orientacion.ucr.ac.cr
SUMMARY:Girasol-Charla Virtual: ¿Cómo exponer los resultados de mi investigación?
DESCRIPTION:Girasol: caja de herramientas académicas\n\n \n\n\n\n\n\n¿Cómo exponer los resultados de mi investigación?\n\n\n\n\nSi sos C4 de la Sede Rodrigo Facio\, te invitamos a participar en esta charla virtual. \n\n\n\n\n\n \n\n\n  \n\nMiércoles 20 de noviembre 17:00\nViernes 22 de noviembre 10:00\n\n\n\nRequiere inscripción previa: Inscríbete aquí\nInformación: 2511-3414
URL:https://orientacion.ucr.ac.cr/evento/girasol-charla-virtual-como-exponer-los-resultados-de-mi-investigacion/
LOCATION:Virtual
CATEGORIES:Activos
ATTACH;FMTTYPE=image/png:https://orientacion.ucr.ac.cr/wp-content/uploads/2023/05/GirasolIco.png
END:VEVENT
BEGIN:VEVENT
DTSTART;TZID=America/Costa_Rica:20241128T080000
DTEND;TZID=America/Costa_Rica:20250131T170000
DTSTAMP:20260424T162336
CREATED:20241031T202458Z
LAST-MODIFIED:20241031T203127Z
UID:37935-1732780800-1738342800@orientacion.ucr.ac.cr
SUMMARY:Centro de llamadas y chat - Elegibles -
DESCRIPTION:Centro de llamadas y chat – Elegibles –\n\n\n\n\n\n\n\n\n\n\n\n \n\n\nSi estás realizando el proceso de admisión 2024-2025 esta información te interesa:\n\n\n\nDel 20 de noviembre al 28 de noviembre 2024 y del 6 al 31 de enero 2025 pondremos a tu disposición estos servicios:\n\n\n\nCentro de llamadas: 2511-3414\, 2511-6388\nChat en línea:\n\n\n\nEn ambos canales podés plantear todas tus consultas.\n\n\nEl horario de atención será de lunes a viernes de 8:00 a.m. a 11:45 a.m. y de 1:00 p.m. a 4:45 p.m.
URL:https://orientacion.ucr.ac.cr/evento/centro-de-llamadas-y-chat-elegibles/
CATEGORIES:Activos
ATTACH;FMTTYPE=image/jpeg:https://orientacion.ucr.ac.cr/wp-content/uploads/2022/12/Elegible2023B.jpg
END:VEVENT
END:VCALENDAR