

BEGIN:VCALENDAR
VERSION:2.0
PRODID:-//Oficina de Orientación - ECPv6.15.17//NONSGML v1.0//EN
CALSCALE:GREGORIAN
METHOD:PUBLISH
X-WR-CALNAME:Oficina de Orientación
X-ORIGINAL-URL:https://orientacion.ucr.ac.cr
X-WR-CALDESC:Eventos para Oficina de Orientación
REFRESH-INTERVAL;VALUE=DURATION:PT1H
X-Robots-Tag:noindex
X-PUBLISHED-TTL:PT1H
BEGIN:VTIMEZONE
TZID:America/Costa_Rica
BEGIN:STANDARD
TZOFFSETFROM:-0600
TZOFFSETTO:-0600
TZNAME:CST
DTSTART:20230101T000000
END:STANDARD
END:VTIMEZONE
BEGIN:VEVENT
DTSTART;TZID=America/Costa_Rica:20241003T140000
DTEND;TZID=America/Costa_Rica:20241003T150000
DTSTAMP:20260424T163215
CREATED:20241002T160914Z
LAST-MODIFIED:20241002T160914Z
UID:37752-1727964000-1727967600@orientacion.ucr.ac.cr
SUMMARY:Charla "Recomendaciones para gestionar la procrastinación"
DESCRIPTION:  \n \nRecomendaciones para gestionar la procrastinación\nSi sos estudiante C4\, ¡esta información es para vos! \nSi estás llevando algún curso de la Escuela de Estudios Generales en la Sede Rodrigo Facio y usualmente tendés a procrastinar en tus labores como estudiante\, entonces te invitamos a participar en esta charla virtual. \nJueves 3 de octubre 2:00 pm a través de TEAMS: Inscríbete aquí
URL:https://orientacion.ucr.ac.cr/evento/charla-recomendaciones-para-gestionar-la-procrastinacion/
LOCATION:Virtual
CATEGORIES:Activos
ATTACH;FMTTYPE=image/png:https://orientacion.ucr.ac.cr/wp-content/uploads/2023/05/CASE-color-actividades.png
END:VEVENT
BEGIN:VEVENT
DTSTART;TZID=America/Costa_Rica:20241007T100000
DTEND;TZID=America/Costa_Rica:20241007T110000
DTSTAMP:20260424T163215
CREATED:20241002T154537Z
LAST-MODIFIED:20241002T161247Z
UID:37750-1728295200-1728298800@orientacion.ucr.ac.cr
SUMMARY:Girasol-Charla Virtual: ¿Cómo leer y comprender en la U?
DESCRIPTION:Girasol: caja de herramientas académicas\n\n \n\n\n\n\n\n¿Cómo leer y comprender en la U?\n\n\n\n\nSos de primer ingreso y ¿leés y no comprendés los textos que te asignan en los cursos? Entonces te invitamos a participar en esta charla virtual. \n\n\n\n\n\n\nFecha: Lunes 7 de octubre 10:00 Actividad exclusiva para C4 de la Sede Rodrigo Facio.\n\n\nRequiere inscripción previa: Inscríbete aquí\nInformación: 2511-3414
URL:https://orientacion.ucr.ac.cr/evento/girasol-charla-virtual-como-leer-y-comprender-en-la-u-2/
LOCATION:Virtual
CATEGORIES:Activos
ATTACH;FMTTYPE=image/png:https://orientacion.ucr.ac.cr/wp-content/uploads/2023/05/GirasolIco.png
END:VEVENT
END:VCALENDAR