

BEGIN:VCALENDAR
VERSION:2.0
PRODID:-//Oficina de Orientación - ECPv6.15.17//NONSGML v1.0//EN
CALSCALE:GREGORIAN
METHOD:PUBLISH
X-WR-CALNAME:Oficina de Orientación
X-ORIGINAL-URL:https://orientacion.ucr.ac.cr
X-WR-CALDESC:Eventos para Oficina de Orientación
REFRESH-INTERVAL;VALUE=DURATION:PT1H
X-Robots-Tag:noindex
X-PUBLISHED-TTL:PT1H
BEGIN:VTIMEZONE
TZID:America/Costa_Rica
BEGIN:STANDARD
TZOFFSETFROM:-0600
TZOFFSETTO:-0600
TZNAME:CST
DTSTART:20230101T000000
END:STANDARD
END:VTIMEZONE
BEGIN:VEVENT
DTSTART;VALUE=DATE:20240425
DTEND;VALUE=DATE:20240504
DTSTAMP:20260424T070915
CREATED:20240425T215339Z
LAST-MODIFIED:20240425T215339Z
UID:35320-1714003200-1714780799@orientacion.ucr.ac.cr
SUMMARY:Girasol-Charla Virtual: ¿Cómo leer y comprender en la U?
DESCRIPTION:Girasol: caja de herramientas académicas\n\n \n\n\n\n\n\nCharla virtual : ¿Cómo leer y comprender en la U?\n\n\n\n\nSi sos C4 de la Sede Rodrigo Facio y te interesa reforzar tus bases académicas para la investigación\, te invitamos a participar en esta actividad: \n\n\n\n\nPrimera fecha: Lunes 29 de abril\, a las  10:00 a.m.\n\nSegunda fecha: Viernes 3 de mayo\, a las 3:00 p.m. \n \nRequiere inscripción previa: Inscríbete aquí\nInformación: 2511-3414
URL:https://orientacion.ucr.ac.cr/evento/girasol-charla-virtual-como-leer-y-comprender-en-la-u/
LOCATION:Virtual
CATEGORIES:Activos
ATTACH;FMTTYPE=image/png:https://orientacion.ucr.ac.cr/wp-content/uploads/2023/05/GirasolIco.png
END:VEVENT
BEGIN:VEVENT
DTSTART;VALUE=DATE:20240513
DTEND;VALUE=DATE:20240515
DTSTAMP:20260424T070915
CREATED:20240509T201653Z
LAST-MODIFIED:20240509T201653Z
UID:35411-1715558400-1715731199@orientacion.ucr.ac.cr
SUMMARY:Girasol-Charla Virtual: ¿Cómo resumir: menos\, es más?
DESCRIPTION:Girasol: caja de herramientas académicas\n\n \n\n\n\n\n\nCharla Virtual: ¿Cómo resumir: menos\, es más?\n\n\n\n\nSi sos C4 de la Sede Rodrigo Facio y te interesa reforzar tus bases académicas para la investigación\, te invitamos a participar en esta actividad: \n\n\n\n\nPrimera fecha: Lunes 13 de mayo\, a las  10:00 a.m.\n\nSegunda fecha: Martes 14 de mayo\, a las 2:00 p.m. \n \nRequiere inscripción previa: Inscríbete aquí\nInformación: 2511-3414
URL:https://orientacion.ucr.ac.cr/evento/girasol-charla-virtual-como-resumir-menos-es-mas/
LOCATION:Virtual
CATEGORIES:Activos
ATTACH;FMTTYPE=image/png:https://orientacion.ucr.ac.cr/wp-content/uploads/2023/05/GirasolIco.png
END:VEVENT
BEGIN:VEVENT
DTSTART;TZID=America/Costa_Rica:20240515T093000
DTEND;TZID=America/Costa_Rica:20240517T170000
DTSTAMP:20260424T070915
CREATED:20240508T153452Z
LAST-MODIFIED:20240508T153452Z
UID:35348-1715765400-1715965200@orientacion.ucr.ac.cr
SUMMARY:Eligiendo Carrera- Estudiantes C4
DESCRIPTION:Actividad Eligiendo Carrera\, ¿Me cambio o me quedo?\n\n\n\n\n\n\n\n\n\n\n\n\n \n\n\n\n\n\n\n¿Quieres información  del mercado laboral de las carreras?\n¿Quieres conocer la normativa para cambiar o llevar dos carreras?\n¿Quieres información acerca de los perfiles vocacionales para las carreras?\n\n\n\nVisítanos en la Sala Multiusos del edificio de la Escuela de Estudios Generales\n\n\n\n\n\n\nHorario: 15\, 16\, 17 de Mayo\,  de 8:00 a.m. a 11:45 m.d. a 1:00 p.m. 4:45 p.m.\n \nEnlace: Inscripción \nLugar: Sala Multiusos del edificio de la Escuela de Estudios Generales \nDirigido a estudiantes de C4 de la Sede Rodrigo Facio
URL:https://orientacion.ucr.ac.cr/evento/eligiendo-carrera-estudiantes-c4/
LOCATION:Salón Multiuso de la Escuela de Generales
CATEGORIES:Activos
ATTACH;FMTTYPE=image/png:https://orientacion.ucr.ac.cr/wp-content/uploads/2022/06/OOLoguito.png
END:VEVENT
BEGIN:VEVENT
DTSTART;TZID=America/Costa_Rica:20240518T090000
DTEND;TZID=America/Costa_Rica:20240518T120000
DTSTAMP:20260424T070915
CREATED:20240517T151211Z
LAST-MODIFIED:20240517T151250Z
UID:35785-1716022800-1716033600@orientacion.ucr.ac.cr
SUMMARY:Repaso II Parcial MA-1004 - Álgebra Lineal
DESCRIPTION:Repaso II Parcial MA-1004 – Álgebra Lineal\n\n\n\n\n\n\n\n\n\n\n\n \n\n\n\n\n  \n\n\nHorario: sábado 18 de mayode 9:00 a.m. a 12: 00 m.d.\n \nEnlace: Ingresa a la sesión aquí \nModalidad: Plataforma virtual Teams \nInformación: 2511-8776
URL:https://orientacion.ucr.ac.cr/evento/repaso-ii-parcial-ma-1004-algebra-lineal/
LOCATION:Vía Teams
CATEGORIES:Activos
ATTACH;FMTTYPE=image/png:https://orientacion.ucr.ac.cr/wp-content/uploads/2023/05/CASE-color-actividades.png
END:VEVENT
BEGIN:VEVENT
DTSTART;TZID=America/Costa_Rica:20240523T180000
DTEND;TZID=America/Costa_Rica:20240523T210000
DTSTAMP:20260424T070915
CREATED:20240522T144342Z
LAST-MODIFIED:20240522T144342Z
UID:35932-1716487200-1716498000@orientacion.ucr.ac.cr
SUMMARY:Repaso II Parcial MA-1001 Cálculo I
DESCRIPTION:Repaso II Parcial MA-1001-Cálculo I\n\n\n\n\n\n\n\n\n\n\n\n\n \n\n\n\n\n  \n\n\nHorario: jueves 23 de mayo de 6:00 p.m. a 9: 00 p.m.\n \nEnlace: Ingresa a la sesión aquí \nModalidad: Plataforma virtual Teams \nInformación: 2511-8776
URL:https://orientacion.ucr.ac.cr/evento/repaso-ii-parcial-ma-1001-calculo-i/
LOCATION:Vía Teams
CATEGORIES:Activos
ATTACH;FMTTYPE=image/png:https://orientacion.ucr.ac.cr/wp-content/uploads/2023/05/CASE-negro-actividades.png
END:VEVENT
BEGIN:VEVENT
DTSTART;VALUE=DATE:20240527
DTEND;VALUE=DATE:20240530
DTSTAMP:20260424T070915
CREATED:20240523T194356Z
LAST-MODIFIED:20240523T194446Z
UID:35996-1716768000-1717027199@orientacion.ucr.ac.cr
SUMMARY:Girasol-Charla Virtual: Guía de ortografía para escribir correctamente
DESCRIPTION:Girasol: caja de herramientas académicas\n\n \n\n\n\n\n\nCharla Virtual: Guía de ortografía para escribir correctamente\n\n\n\n\nSi sos C4 de la Sede Rodrigo Facio y te interesa reforzar tus bases académicas para la investigación\, te invitamos a participar en esta actividad: \n\n\n\n\nPrimera fecha: Lunes 27 de mayo\, a las  2:00 p.m.\n\nSegunda fecha: Miércoles 29 de mayo\, a las 10:00 a.m. \n \nRequiere inscripción previa: Inscríbete aquí\nInformación: 2511-3414
URL:https://orientacion.ucr.ac.cr/evento/girasol-charla-virtual-guia-de-ortografia-para-escribir-correctamente/
LOCATION:Virtual
CATEGORIES:Activos
ATTACH;FMTTYPE=image/png:https://orientacion.ucr.ac.cr/wp-content/uploads/2023/05/GirasolIco.png
END:VEVENT
END:VCALENDAR