

BEGIN:VCALENDAR
VERSION:2.0
PRODID:-//Oficina de Orientación - ECPv6.15.17//NONSGML v1.0//EN
CALSCALE:GREGORIAN
METHOD:PUBLISH
X-WR-CALNAME:Oficina de Orientación
X-ORIGINAL-URL:https://orientacion.ucr.ac.cr
X-WR-CALDESC:Eventos para Oficina de Orientación
REFRESH-INTERVAL;VALUE=DURATION:PT1H
X-Robots-Tag:noindex
X-PUBLISHED-TTL:PT1H
BEGIN:VTIMEZONE
TZID:America/Costa_Rica
BEGIN:STANDARD
TZOFFSETFROM:-0600
TZOFFSETTO:-0600
TZNAME:CST
DTSTART:20230101T000000
END:STANDARD
END:VTIMEZONE
BEGIN:VEVENT
DTSTART;VALUE=DATE:20240403
DTEND;VALUE=DATE:20240405
DTSTAMP:20260422T233448
CREATED:20240401T212924Z
LAST-MODIFIED:20240401T212924Z
UID:35228-1712102400-1712275199@orientacion.ucr.ac.cr
SUMMARY:Girasol: Inscripción a charlas de herramientas académicas
DESCRIPTION:Girasol: caja de herramientas académicas\n\n \n\n\n\n\n\nCharla virtual : Investigación Académica.\nLo que debo saber para hacer los trabajos de la U.\n \n\n\n\nSi sos C4 de la Sede Rodrigo Facio y te interesa reforzar tus bases académicas para la investigación\, te invitamos a participar en esta actividad: \n\n\n\n\nPrimera fecha: Miércoles 3 de Abril\, a las  10:00 a.m.\n\nSegunda fecha: Jueves 4 de Abril\, a las 2:00 p.m. \n \nRequiere inscripción previa: Inscríbete aquí\nInformación: 2511-3414
URL:https://orientacion.ucr.ac.cr/evento/girasol-inscripcion-a-charlas-de-herramientas-academicas/
LOCATION:Virtual
CATEGORIES:Activos
ATTACH;FMTTYPE=image/png:https://orientacion.ucr.ac.cr/wp-content/uploads/2023/05/GirasolIco.png
END:VEVENT
BEGIN:VEVENT
DTSTART;VALUE=DATE:20240425
DTEND;VALUE=DATE:20240504
DTSTAMP:20260422T233448
CREATED:20240425T215339Z
LAST-MODIFIED:20240425T215339Z
UID:35320-1714003200-1714780799@orientacion.ucr.ac.cr
SUMMARY:Girasol-Charla Virtual: ¿Cómo leer y comprender en la U?
DESCRIPTION:Girasol: caja de herramientas académicas\n\n \n\n\n\n\n\nCharla virtual : ¿Cómo leer y comprender en la U?\n\n\n\n\nSi sos C4 de la Sede Rodrigo Facio y te interesa reforzar tus bases académicas para la investigación\, te invitamos a participar en esta actividad: \n\n\n\n\nPrimera fecha: Lunes 29 de abril\, a las  10:00 a.m.\n\nSegunda fecha: Viernes 3 de mayo\, a las 3:00 p.m. \n \nRequiere inscripción previa: Inscríbete aquí\nInformación: 2511-3414
URL:https://orientacion.ucr.ac.cr/evento/girasol-charla-virtual-como-leer-y-comprender-en-la-u/
LOCATION:Virtual
CATEGORIES:Activos
ATTACH;FMTTYPE=image/png:https://orientacion.ucr.ac.cr/wp-content/uploads/2023/05/GirasolIco.png
END:VEVENT
BEGIN:VEVENT
DTSTART;TZID=America/Costa_Rica:20240427T093000
DTEND;TZID=America/Costa_Rica:20240427T123000
DTSTAMP:20260422T233448
CREATED:20240429T193440Z
LAST-MODIFIED:20240429T193730Z
UID:35338-1714210200-1714221000@orientacion.ucr.ac.cr
SUMMARY:Repaso I Parcial MA-1021-Cálculo I  para Ciencias Económicas
DESCRIPTION:Repaso I Parcial MA-1021-Cálculo I para Ciencias Económicas\n\n\n\n\n\n\n\n\n\n\n\n\n \n\n\n\n\n  \n\n\nHorario: sábado 27 de abril de 9:30 a.m. a 12: 30 p.m.\n \nEnlace: Inscripción \nModalidad: Plataforma virtual Teams \nInformación: 2511-8776
URL:https://orientacion.ucr.ac.cr/evento/repaso-i-parcial-ma-1021-calculo-i-para-ciencias-economicas/
LOCATION:Vía Teams
CATEGORIES:Activos
ATTACH;FMTTYPE=image/png:https://orientacion.ucr.ac.cr/wp-content/uploads/2023/05/CASE-negro-actividades.png
END:VEVENT
END:VCALENDAR