

BEGIN:VCALENDAR
VERSION:2.0
PRODID:-//Oficina de Orientación - ECPv6.15.17//NONSGML v1.0//EN
CALSCALE:GREGORIAN
METHOD:PUBLISH
X-WR-CALNAME:Oficina de Orientación
X-ORIGINAL-URL:https://orientacion.ucr.ac.cr
X-WR-CALDESC:Eventos para Oficina de Orientación
REFRESH-INTERVAL;VALUE=DURATION:PT1H
X-Robots-Tag:noindex
X-PUBLISHED-TTL:PT1H
BEGIN:VTIMEZONE
TZID:America/Costa_Rica
BEGIN:STANDARD
TZOFFSETFROM:-0600
TZOFFSETTO:-0600
TZNAME:CST
DTSTART:20230101T000000
END:STANDARD
END:VTIMEZONE
BEGIN:VEVENT
DTSTART;TZID=America/Costa_Rica:20240103T000500
DTEND;TZID=America/Costa_Rica:20240105T235500
DTSTAMP:20260420T195137
CREATED:20231214T203717Z
LAST-MODIFIED:20240103T174528Z
UID:33917-1704240300-1704498900@orientacion.ucr.ac.cr
SUMMARY:Escogencia de carrera y recinto
DESCRIPTION:Escogencia de carrera y recinto\n\n \n  \n\n\n\n\n\n\n\n\n\nSi eres estudiante elegible y vas a realizar el concurso a carrera y recinto esta información es para vos:\n\n\n\nLas fechas del concurso a carrera y recinto son las siguientes ¡y no se te pueden pasar!\n\n\nFechas de concurso: del 3 al 5 de enero\, 2024 \nSitio web E-ingreso: https://eingreso.ucr.ac.cr/eingreso/showLoginNuevo.do \nImportante:Si querés conocer información importante al respecto al proceso de admisión ingresá a: https://caminoalau.ucr.ac.cr/covo/ec/index.xhtml
URL:https://orientacion.ucr.ac.cr/evento/escogencia-de-carrera-y-recinto/
LOCATION:Sistema E-Ingreso
CATEGORIES:Activos
ATTACH;FMTTYPE=image/jpeg:https://orientacion.ucr.ac.cr/wp-content/uploads/2023/05/logo-ucr-color.jpg
END:VEVENT
BEGIN:VEVENT
DTSTART;VALUE=DATE:20240112
DTEND;VALUE=DATE:20240113
DTSTAMP:20260420T195137
CREATED:20240109T221248Z
LAST-MODIFIED:20240109T221437Z
UID:34089-1705017600-1705103999@orientacion.ucr.ac.cr
SUMMARY:Resultados Concurso Carrera Admitidos 2024
DESCRIPTION:Resultado del concurso a carrera y recinto Primer ingreso 2024\n\n\n  \n\n\n\n\n\n\n\n\n\nSi estás participando en el proceso de admisión 2023-2024\, podés consultar el resultado del concurso a carrera y recinto de Admisión Ordinaria\n¿Cuando?: a partir del 12 de enero del 2024\n¿Dónde?: en el sitio web: https://ori.ucr.ac.cr/admision\n\n\n\nPara más información\nSi querés conocer información importante al respecto al proceso de admisión ingresá a: https://caminoalau.ucr.ac.cr/covo/ec/index.xhtml\n\n\n\n\n\n 
URL:https://orientacion.ucr.ac.cr/evento/resultados-concurso-carrera-admitidos-2024/
LOCATION:Sitio web de la Oficina de Registro e Información
CATEGORIES:Activos
ATTACH;FMTTYPE=image/jpeg:https://orientacion.ucr.ac.cr/wp-content/uploads/2023/05/logo-ucr-color.jpg
END:VEVENT
BEGIN:VEVENT
DTSTART;TZID=America/Costa_Rica:20240124T080000
DTEND;TZID=America/Costa_Rica:20240131T170000
DTSTAMP:20260420T195137
CREATED:20240115T174157Z
LAST-MODIFIED:20240115T174157Z
UID:34252-1706083200-1706720400@orientacion.ucr.ac.cr
SUMMARY:Solicitud de adecuación curricular I Ciclo 2024 - Primer Ingreso-
DESCRIPTION:Solicitud de adecuación curricular I Ciclo 2024 – Primer Ingreso-\n\n \n\n\n\n\n\n\n\n\n\n\n\n\n\n\n\n\n\nUna vez que seas admitido o admitida en carrera podés solicitar adecuación curricular en tus estudios universitarios. El Centro de Asesoría y Servicios a estudiantes con Discapacidad es el ente encargado de asesorarte.\nPeriodo: Del 24 al 31 de enero\, 2024\n\n\n\n\n\n\n\n\n\n\n\nPara más información\, contacta al Centro de Asesoría y Servicios a Estudiantes con Discapacidad  (CASED)\n2511-2723\ncased@ucr.ac.cr
URL:https://orientacion.ucr.ac.cr/evento/solicitud-de-adecuacion-curricular-i-ciclo-2024-primer-ingreso/
LOCATION:CASED
CATEGORIES:Activos
ATTACH;FMTTYPE=image/png:https://orientacion.ucr.ac.cr/wp-content/uploads/2023/05/CASED-color-actividades.png
END:VEVENT
END:VCALENDAR