

BEGIN:VCALENDAR
VERSION:2.0
PRODID:-//Oficina de Orientación - ECPv6.15.17//NONSGML v1.0//EN
CALSCALE:GREGORIAN
METHOD:PUBLISH
X-WR-CALNAME:Oficina de Orientación
X-ORIGINAL-URL:https://orientacion.ucr.ac.cr
X-WR-CALDESC:Eventos para Oficina de Orientación
REFRESH-INTERVAL;VALUE=DURATION:PT1H
X-Robots-Tag:noindex
X-PUBLISHED-TTL:PT1H
BEGIN:VTIMEZONE
TZID:America/Costa_Rica
BEGIN:STANDARD
TZOFFSETFROM:-0600
TZOFFSETTO:-0600
TZNAME:CST
DTSTART:20220101T000000
END:STANDARD
END:VTIMEZONE
BEGIN:VEVENT
DTSTART;VALUE=DATE:20231031
DTEND;VALUE=DATE:20231107
DTSTAMP:20260425T081136
CREATED:20231031T153655Z
LAST-MODIFIED:20231031T153804Z
UID:33360-1698710400-1699315199@orientacion.ucr.ac.cr
SUMMARY:Inscripción al taller: Redacción Trabajo Final de Graduación Grupo 01
DESCRIPTION:Taller virtual I: Redacción Trabajo Final de Graduación\n\n\n \nTaller virtual\, en horario nocturno dirigido a población UCR de todas las sedes y recintos que se encuentre en la elaboración de su Trabajo Final de Graduación\n\n\n\n\n\n\nInformación del taller:\nLa redacción\, ortografía y comprensión de textos son habilidades importantes y necesarias en la vida académica y profesional\, este taller te permitará desarrollarlas y potenciarlas. El taller tiene una duración de 6 lecciones. \n\n\n\n\n\n\n\n\n\n\nDías de lecciones: 06\, 07\, 09\, 13 14 y 16 de noviembre.\nHora: De 6:30 p.m. a 8:30 p.m.\nModalidad: Virtual\nInicio de lecciones: 06 de noviembre.\nEl enlace del taller se le hará llegar a su correo institucional.\n\n\n\n\n\n\n\n\n\n\n\n\n\n\n\nInscripción:\n\n\nPeriodo de inscripción abierto: del 31 de octubre al 06 noviembre\nSi tenés interés en participar en esta temática\, Inscríbete aquí\n\n\n\n\n\n\nContacto: 2511-8776
URL:https://orientacion.ucr.ac.cr/evento/taller-redaccion-trabajo-fina-de-graduacion-grupo-01/
LOCATION:Virtual
CATEGORIES:Activos
ATTACH;FMTTYPE=image/png:https://orientacion.ucr.ac.cr/wp-content/uploads/2022/06/OOLoguito.png
END:VEVENT
BEGIN:VEVENT
DTSTART;VALUE=DATE:20231031
DTEND;VALUE=DATE:20231108
DTSTAMP:20260425T081136
CREATED:20231103T161011Z
LAST-MODIFIED:20231103T161011Z
UID:33391-1698710400-1699401599@orientacion.ucr.ac.cr
SUMMARY:Inscripción al taller: Redacción Trabajo Final de Graduación Grupo 02
DESCRIPTION:Taller virtual II: Redacción Trabajo Final de Graduación\n\n\n \n  \nTaller virtual\, en horario nocturno dirigido a población UCR de todas las sedes y recintos que se encuentre en la elaboración de su Trabajo Final de Graduación\n\n\n\n\n\n\nInformación del taller:\nLa redacción\, ortografía y comprensión de textos son habilidades importantes y necesarias en la vida académica y profesional\, este taller te permitará desarrollarlas y potenciarlas. El taller tiene una duración de 6 lecciones. \n\n\n\n\n\n\n\n\n\n\nDías de lecciones:  07\, 08\, 10 14 y 15 y 17 de noviembre.\nHora: De 10:00 a.m. a 12:00 m.d.\nModalidad: Virtual\nInicio de lecciones: 07 de noviembre.\nEl enlace del taller se le hará llegar a su correo institucional.\n\n\n\n\n\n\n\n\n\n\n\n\n\n\n\nInscripción:\n\n\nPeriodo de inscripción abierto: del 1° de octubre al 07 noviembre\nSi tenés interés en participar en esta temática\, Inscríbete aquí\n\n\n\n\n\n\nContacto: 2511-8776
URL:https://orientacion.ucr.ac.cr/evento/inscripcion-al-taller-redaccion-trabajo-final-de-graduacion-grupo-02/
LOCATION:Virtual
CATEGORIES:Activos
ATTACH;FMTTYPE=image/png:https://orientacion.ucr.ac.cr/wp-content/uploads/2022/06/OOLoguito.png
END:VEVENT
BEGIN:VEVENT
DTSTART;TZID=America/Costa_Rica:20231103T140000
DTEND;TZID=America/Costa_Rica:20231103T150000
DTSTAMP:20260425T081136
CREATED:20231103T152321Z
LAST-MODIFIED:20231103T161930Z
UID:33268-1699020000-1699023600@orientacion.ucr.ac.cr
SUMMARY:Girasol: Charla Organización del tiempo 3 Nov
DESCRIPTION:Girasol: caja de herramientas académicas\n\n \n\n\n\n\n\nCharla virtual : Organización del tiempo \n\n\n\nSi sos C3 de la Sede Rodrigo Facio y te interesa reforzar tus bases académicas para la investigación\, te invitamos a participar en esta actividad \n\n\n\n\n¿Cuando?: Lunes 03 de noviembre\n¿Horario?: 2:00 p.m.\nRequiere inscripción previa: Inscríbete aquí\nLa charla se brindará de manera virtual\, una vez que te inscribas se te hará llegar el enlace zoom para que puedas participar. \nInformación: 2511-3414
URL:https://orientacion.ucr.ac.cr/evento/girasol-charla-organizacion-del-tiempo/
LOCATION:Virtual
CATEGORIES:Activos
ATTACH;FMTTYPE=image/png:https://orientacion.ucr.ac.cr/wp-content/uploads/2023/05/GirasolIco.png
END:VEVENT
BEGIN:VEVENT
DTSTART;TZID=America/Costa_Rica:20231106T100000
DTEND;TZID=America/Costa_Rica:20231106T120000
DTSTAMP:20260425T081136
CREATED:20231103T161905Z
LAST-MODIFIED:20231103T161905Z
UID:33396-1699264800-1699272000@orientacion.ucr.ac.cr
SUMMARY:Girasol: Charla Organización del tiempo 6 Nov
DESCRIPTION:Girasol: caja de herramientas académicas\n\n \n\n\n\n\n\nCharla virtual : Organización del tiempo\n\n\n\n\nSi sos C3 de la Sede Rodrigo Facio y te interesa reforzar tus bases académicas para la investigación\, te invitamos a participar en esta actividad \n\n\n\n\n¿Cuando?: Lunes 6 de noviembre\n¿Horario?: 10:00 a.m.\nRequiere inscripción previa: Inscríbete aquí\nLa charla se brindará de manera virtual\, una vez que te inscribas se te hará llegar el enlace zoom para que puedas participar. \nInformación: 2511-3414
URL:https://orientacion.ucr.ac.cr/evento/girasol-charla-organizacion-del-tiempo-6-nov/
LOCATION:Virtual
CATEGORIES:Activos
ATTACH;FMTTYPE=image/png:https://orientacion.ucr.ac.cr/wp-content/uploads/2023/05/GirasolIco.png
END:VEVENT
BEGIN:VEVENT
DTSTART;TZID=America/Costa_Rica:20231108T153000
DTEND;TZID=America/Costa_Rica:20231108T163000
DTSTAMP:20260425T081136
CREATED:20231107T155322Z
LAST-MODIFIED:20231108T142137Z
UID:33401-1699457400-1699461000@orientacion.ucr.ac.cr
SUMMARY:Tardeando en la CIU: Entre angustias y rabietas
DESCRIPTION:Conversatorio sobre crianza respetuosa\n\n\n\n\n\n\n\n\n\n\n\n\n\n \n\n\n\n\n\n\n\n\nLa Casa Infantil Universitaria invita al tercer encuentro presencial de Tardeando en la CIU.\nSon bienvenidas madres\, padres y todas las personas que acompañan infantes y tienen interés en compartir aprendizajes y experiencias.\n\n\n\n\n\n\n\n\nFecha: Miércoles 08 de noviembre\, 3:30 pm\nLugar: Casa Infantil Universitaria (frente al Edificio de Ciencias Sociales\, Ciudad de la Investigación).\nNo es necesaria confirmación previa
URL:https://orientacion.ucr.ac.cr/evento/tardeando-en-la-ciu-entre-angustias-y-rabietas/
LOCATION:Casa Infantil Universitaria
CATEGORIES:Activos
ATTACH;FMTTYPE=image/png:https://orientacion.ucr.ac.cr/wp-content/uploads/2023/05/CIU-color-actividades.png
END:VEVENT
BEGIN:VEVENT
DTSTART;TZID=America/Costa_Rica:20231116T170000
DTEND;TZID=America/Costa_Rica:20231116T170000
DTSTAMP:20260425T081136
CREATED:20231115T172247Z
LAST-MODIFIED:20231115T172247Z
UID:33480-1700154000-1700154000@orientacion.ucr.ac.cr
SUMMARY:Taller: Dirigido a docentes UCR
DESCRIPTION:Taller presencial: Comunicación Saludable en el Aula\n\n\n \n  \n\n\n\n\n\nTaller: Comunicación Saludable en el Aula\n\n\n\n\nEl Eje de Desarrollo Personal de la Oficina de Orientación invita al taller: Comunicación Saludable en el Aula.\nLa Oficina de Orientación le invita a participar de este espacio grupal para reflexionar en torno a cómo nos comunicamos en el aula.\nDirigido a docentes de la UCR\n\n\n\n\n¿Cuando?: Jueves 16 de noviembre\n¿Horario?: 5:00 p.m.\nRequiere inscripción previa: Inscríbete aquí\n¿Lugar?: Auditorio de la Escuela de Tecnologías de la Salud.\n  \nCupo limitado
URL:https://orientacion.ucr.ac.cr/evento/taller-dirigido-a-docentes-ucr/
LOCATION:Auditorio Escuela de Tecnologías de Salud
CATEGORIES:Activos
ATTACH;FMTTYPE=image/png:https://orientacion.ucr.ac.cr/wp-content/uploads/2022/06/OOLoguito.png
END:VEVENT
BEGIN:VEVENT
DTSTART;TZID=America/Costa_Rica:20231118T100000
DTEND;TZID=America/Costa_Rica:20231118T110000
DTSTAMP:20260425T081136
CREATED:20231117T171538Z
LAST-MODIFIED:20231117T194340Z
UID:33357-1700301600-1700305200@orientacion.ucr.ac.cr
SUMMARY:Repaso III Parcial Cálculo I MA-1001
DESCRIPTION:Repaso III Parcial Cálculo I  MA-1001\n\n\n\n\n\n\n\n\n\n\n\n\n\nRepaso18nov \n\n\n\nHorario: sábado 18 de noviembre a las 10:00 a.m. \nEnlace:  https://n9.cl/ma1001grio \nModalidad: virtual (teams) \nInformación: 2511-8776
URL:https://orientacion.ucr.ac.cr/evento/repaso-ii-parcial-calculo-i-para-ciencias-economicas/
LOCATION:Vía Teams
CATEGORIES:Activos
ATTACH;FMTTYPE=image/png:https://orientacion.ucr.ac.cr/wp-content/uploads/2023/05/CASE-color-actividades.png
END:VEVENT
BEGIN:VEVENT
DTSTART;TZID=America/Costa_Rica:20231122T140000
DTEND;TZID=America/Costa_Rica:20231122T150000
DTSTAMP:20260425T081136
CREATED:20231121T210751Z
LAST-MODIFIED:20231121T210751Z
UID:33577-1700661600-1700665200@orientacion.ucr.ac.cr
SUMMARY:Repaso III Parcial Cálculo I  MA-1001
DESCRIPTION:Repaso III Parcial Cálculo I  MA-1001\n\n\n\n\n\n\n\n\n\n\n\n\n\n\n \n\n\n\nHorario: miércoles 22 de noviembre a las 2:00 p.m. \nEnlace:  https://n9.cl/ma1001grio \nModalidad: virtual (teams) \nInformación: 2511-8776
URL:https://orientacion.ucr.ac.cr/evento/repaso-iii-parcial-calculo-i-ma-1001/
LOCATION:Vía Teams
CATEGORIES:Activos
ATTACH;FMTTYPE=image/png:https://orientacion.ucr.ac.cr/wp-content/uploads/2023/05/CASE-negro-actividades.png
END:VEVENT
END:VCALENDAR