

BEGIN:VCALENDAR
VERSION:2.0
PRODID:-//Oficina de Orientación - ECPv6.15.17//NONSGML v1.0//EN
CALSCALE:GREGORIAN
METHOD:PUBLISH
X-WR-CALNAME:Oficina de Orientación
X-ORIGINAL-URL:https://orientacion.ucr.ac.cr
X-WR-CALDESC:Eventos para Oficina de Orientación
REFRESH-INTERVAL;VALUE=DURATION:PT1H
X-Robots-Tag:noindex
X-PUBLISHED-TTL:PT1H
BEGIN:VTIMEZONE
TZID:America/Costa_Rica
BEGIN:STANDARD
TZOFFSETFROM:-0600
TZOFFSETTO:-0600
TZNAME:CST
DTSTART:20250101T000000
END:STANDARD
END:VTIMEZONE
BEGIN:VEVENT
DTSTART;VALUE=DATE:20260223
DTEND;VALUE=DATE:20260321
DTSTAMP:20260425T135939
CREATED:20240104T160200Z
LAST-MODIFIED:20260220T153305Z
UID:33952-1771804800-1774051199@orientacion.ucr.ac.cr
SUMMARY:Atención en COVO - Admisión 2026 -
DESCRIPTION:Asesoría en Orientación Vocacional\n\n \n\n\n\n\n\n\n\n\n\n\n\n\n\n\n¿Te vas a inscribir al examen de admisión en 2026? \nY todavía tienes algunas inquietudes con respecto a tu elección vocacional. Te comentamos que nuestro servicio va estar habilitado a partir del 23 de febrero. Puedes pedir una cita una vez que te hayas inscrito a la prueba.Para más información contáctanos al COVO. \nEstamos ubicados en el segundo piso de la Antigua Facultad de Odontología\, Sede Rodrigo Facio. \n﻿
URL:https://orientacion.ucr.ac.cr/evento/atencion-en-covo-elegibles-2024/
LOCATION:Segundo piso de la Antigua Facultad de Odontología\, Sede Rodrigo Facio
CATEGORIES:Activos
ATTACH;FMTTYPE=image/png:https://orientacion.ucr.ac.cr/wp-content/uploads/2023/05/COVO-color-actividades.png
END:VEVENT
END:VCALENDAR