

BEGIN:VCALENDAR
VERSION:2.0
PRODID:-//Oficina de Orientación - ECPv6.15.17//NONSGML v1.0//EN
CALSCALE:GREGORIAN
METHOD:PUBLISH
X-WR-CALNAME:Oficina de Orientación
X-ORIGINAL-URL:https://orientacion.ucr.ac.cr
X-WR-CALDESC:Eventos para Oficina de Orientación
REFRESH-INTERVAL;VALUE=DURATION:PT1H
X-Robots-Tag:noindex
X-PUBLISHED-TTL:PT1H
BEGIN:VTIMEZONE
TZID:America/Costa_Rica
BEGIN:STANDARD
TZOFFSETFROM:-0600
TZOFFSETTO:-0600
TZNAME:CST
DTSTART:20250101T000000
END:STANDARD
END:VTIMEZONE
BEGIN:VEVENT
DTSTART;VALUE=DATE:20260107
DTEND;VALUE=DATE:20260110
DTSTAMP:20260424T113230
CREATED:20260107T143235Z
LAST-MODIFIED:20260107T143350Z
UID:42493-1767744000-1768003199@orientacion.ucr.ac.cr
SUMMARY:Atención virtual-concurso de traslado y carrera simultánea
DESCRIPTION:Atención virtual de consultas\n¡Si sos estudiante de la U y estás realizando el concurso y tenés dudas\, te invitamos a plantearlas en este espacio! Si sos estudiante elegible y vas a realizar el concurso a carrera y recinto pero todavía tienes algunas dudas del concurso te contamos que en el Centro de Orientación Vocacional-Ocupacional (COVO) vamos a tener atención virtual de consultas los días:  \n\n\n¿Cuándo?: 7\, 8 y 9 de enero de 2026\n¿Horario?: De 10:00 a.m. a  12:00 m.d. y de 2:00 p.m. a  3:00 p.m.\nVía Zoom: https://udecr.zoom.us/j/84843540374…\n\n\n\n\n\n\n\n\n¡Te esperamos!
URL:https://orientacion.ucr.ac.cr/evento/atencion-virtual-concurso-de-traslado-y-carrera-simultanea/
LOCATION:Virtual
CATEGORIES:Activos
ATTACH;FMTTYPE=image/png:https://orientacion.ucr.ac.cr/wp-content/uploads/2022/06/OOLoguito.png
END:VEVENT
END:VCALENDAR