

BEGIN:VCALENDAR
VERSION:2.0
PRODID:-//Oficina de Orientación - ECPv6.15.17//NONSGML v1.0//EN
CALSCALE:GREGORIAN
METHOD:PUBLISH
X-WR-CALNAME:Oficina de Orientación
X-ORIGINAL-URL:https://orientacion.ucr.ac.cr
X-WR-CALDESC:Eventos para Oficina de Orientación
REFRESH-INTERVAL;VALUE=DURATION:PT1H
X-Robots-Tag:noindex
X-PUBLISHED-TTL:PT1H
BEGIN:VTIMEZONE
TZID:America/Costa_Rica
BEGIN:STANDARD
TZOFFSETFROM:-0600
TZOFFSETTO:-0600
TZNAME:CST
DTSTART:20240101T000000
END:STANDARD
END:VTIMEZONE
BEGIN:VEVENT
DTSTART;TZID=America/Costa_Rica:20250310T080000
DTEND;TZID=America/Costa_Rica:20250410T170000
DTSTAMP:20260425T091626
CREATED:20250310T151738Z
LAST-MODIFIED:20250310T211807Z
UID:37588-1741593600-1744304400@orientacion.ucr.ac.cr
SUMMARY:Justificación de Promedio Ponderado 2025
DESCRIPTION:Si tenés beca socioeconómica y tuviste un promedio ponderado menor a 7 en el año 2024\, tomá en cuenta esta información\n\n\n\nPeríodo: I ciclo 2025:\nDel 10 de marzo de 2024 a las 8: 00 a.m. al 10 de abril de 2024 a las 5:00 p.m. \n\n\nProcedimiento: Revisá los pasos a seguir en el siguiente enlace https://orientacion.ucr.ac.cr/gestiones-estudiantiles/\n\n\n\nSi tenés dudas comunicate con el CASE que te corresponde\n\n\n\n\nRecordá que quién resuelve la solicitud y te notifica la respuesta\, es la Oficina de Becas y Atención Socioeconómica.
URL:https://orientacion.ucr.ac.cr/evento/justificacion-de-promedio-ponderado/
CATEGORIES:Activos
ATTACH;FMTTYPE=image/png:https://orientacion.ucr.ac.cr/wp-content/uploads/2023/05/CASE-negro-actividades.png
END:VEVENT
END:VCALENDAR