

BEGIN:VCALENDAR
VERSION:2.0
PRODID:-//Oficina de Orientación - ECPv6.15.17//NONSGML v1.0//EN
CALSCALE:GREGORIAN
METHOD:PUBLISH
X-WR-CALNAME:Oficina de Orientación
X-ORIGINAL-URL:https://orientacion.ucr.ac.cr
X-WR-CALDESC:Eventos para Oficina de Orientación
REFRESH-INTERVAL;VALUE=DURATION:PT1H
X-Robots-Tag:noindex
X-PUBLISHED-TTL:PT1H
BEGIN:VTIMEZONE
TZID:America/Costa_Rica
BEGIN:STANDARD
TZOFFSETFROM:-0600
TZOFFSETTO:-0600
TZNAME:CST
DTSTART:20230101T000000
END:STANDARD
END:VTIMEZONE
BEGIN:VEVENT
DTSTART;TZID=America/Costa_Rica:20241128T080000
DTEND;TZID=America/Costa_Rica:20250131T170000
DTSTAMP:20260425T103320
CREATED:20241031T202458Z
LAST-MODIFIED:20241031T203127Z
UID:37935-1732780800-1738342800@orientacion.ucr.ac.cr
SUMMARY:Centro de llamadas y chat - Elegibles -
DESCRIPTION:Centro de llamadas y chat – Elegibles –\n\n\n\n\n\n\n\n\n\n\n\n \n\n\nSi estás realizando el proceso de admisión 2024-2025 esta información te interesa:\n\n\n\nDel 20 de noviembre al 28 de noviembre 2024 y del 6 al 31 de enero 2025 pondremos a tu disposición estos servicios:\n\n\n\nCentro de llamadas: 2511-3414\, 2511-6388\nChat en línea:\n\n\n\nEn ambos canales podés plantear todas tus consultas.\n\n\nEl horario de atención será de lunes a viernes de 8:00 a.m. a 11:45 a.m. y de 1:00 p.m. a 4:45 p.m.
URL:https://orientacion.ucr.ac.cr/evento/centro-de-llamadas-y-chat-elegibles/
CATEGORIES:Activos
ATTACH;FMTTYPE=image/jpeg:https://orientacion.ucr.ac.cr/wp-content/uploads/2022/12/Elegible2023B.jpg
END:VEVENT
BEGIN:VEVENT
DTSTART;VALUE=DATE:20250107
DTEND;VALUE=DATE:20250110
DTSTAMP:20260425T103320
CREATED:20250108T163011Z
LAST-MODIFIED:20250108T163114Z
UID:38619-1736208000-1736467199@orientacion.ucr.ac.cr
SUMMARY:Atención presencial de consultas - Población Elegible 2025
DESCRIPTION:Atencionpresencial2025 \n  \nAtención presencial de consultas\n\n\n\nPara población estudiantil elegible que participa en el concurso a carrera 2025\n\n\nSi sos estudiante elegible\, vas a realizar el concurso a carrera y recinto pero todavía tenés algunas dudas del concurso te contamos que en el Centro de Orientación Vocacional-Ocupacional (COVO) vamos a tener atención presencial de consultas.\n\n\nPodés visitarnos en el Centro de Orientación Vocacional Ocupacional (COVO) los días 07\, 08 y 09 de enero en horario de 8: 00 am a 12:00 m.d y de 1:00 p.m a 5: 00 p.m.\n\nAntigua Facultad de Odontología\, segundo piso al final del pasillo.
URL:https://orientacion.ucr.ac.cr/evento/atencion-presencial-de-consultas-poblacion-elegible-2025/
LOCATION:Centro de Orientación Vocacional Ocupacional\, COVO
CATEGORIES:Activos
ATTACH;FMTTYPE=image/png:https://orientacion.ucr.ac.cr/wp-content/uploads/2023/05/COVO-negro-actividades.png
END:VEVENT
END:VCALENDAR