

BEGIN:VCALENDAR
VERSION:2.0
PRODID:-//Oficina de Orientación - ECPv6.15.17//NONSGML v1.0//EN
CALSCALE:GREGORIAN
METHOD:PUBLISH
X-WR-CALNAME:Oficina de Orientación
X-ORIGINAL-URL:https://orientacion.ucr.ac.cr
X-WR-CALDESC:Eventos para Oficina de Orientación
REFRESH-INTERVAL;VALUE=DURATION:PT1H
X-Robots-Tag:noindex
X-PUBLISHED-TTL:PT1H
BEGIN:VTIMEZONE
TZID:America/Costa_Rica
BEGIN:STANDARD
TZOFFSETFROM:-0600
TZOFFSETTO:-0600
TZNAME:CST
DTSTART:20230101T000000
END:STANDARD
END:VTIMEZONE
BEGIN:VEVENT
DTSTART;TZID=America/Costa_Rica:20240103T000500
DTEND;TZID=America/Costa_Rica:20240105T235500
DTSTAMP:20260422T181607
CREATED:20231214T203717Z
LAST-MODIFIED:20240103T174528Z
UID:33917-1704240300-1704498900@orientacion.ucr.ac.cr
SUMMARY:Escogencia de carrera y recinto
DESCRIPTION:Escogencia de carrera y recinto\n\n \n  \n\n\n\n\n\n\n\n\n\nSi eres estudiante elegible y vas a realizar el concurso a carrera y recinto esta información es para vos:\n\n\n\nLas fechas del concurso a carrera y recinto son las siguientes ¡y no se te pueden pasar!\n\n\nFechas de concurso: del 3 al 5 de enero\, 2024 \nSitio web E-ingreso: https://eingreso.ucr.ac.cr/eingreso/showLoginNuevo.do \nImportante:Si querés conocer información importante al respecto al proceso de admisión ingresá a: https://caminoalau.ucr.ac.cr/covo/ec/index.xhtml
URL:https://orientacion.ucr.ac.cr/evento/escogencia-de-carrera-y-recinto/
LOCATION:Sistema E-Ingreso
CATEGORIES:Activos
ATTACH;FMTTYPE=image/jpeg:https://orientacion.ucr.ac.cr/wp-content/uploads/2023/05/logo-ucr-color.jpg
END:VEVENT
END:VCALENDAR