

BEGIN:VCALENDAR
VERSION:2.0
PRODID:-//Oficina de Orientación - ECPv6.15.17//NONSGML v1.0//EN
CALSCALE:GREGORIAN
METHOD:PUBLISH
X-WR-CALNAME:Oficina de Orientación
X-ORIGINAL-URL:https://orientacion.ucr.ac.cr
X-WR-CALDESC:Eventos para Oficina de Orientación
REFRESH-INTERVAL;VALUE=DURATION:PT1H
X-Robots-Tag:noindex
X-PUBLISHED-TTL:PT1H
BEGIN:VTIMEZONE
TZID:America/Costa_Rica
BEGIN:STANDARD
TZOFFSETFROM:-0600
TZOFFSETTO:-0600
TZNAME:CST
DTSTART:20220101T000000
END:STANDARD
END:VTIMEZONE
BEGIN:VEVENT
DTSTART;TZID=America/Costa_Rica:20230622T110000
DTEND;TZID=America/Costa_Rica:20230622T120000
DTSTAMP:20260420T182359
CREATED:20230616T171938Z
LAST-MODIFIED:20230616T171938Z
UID:32030-1687431600-1687435200@orientacion.ucr.ac.cr
SUMMARY:Girasol: Exposición de resultados 22 de junio
DESCRIPTION:Girasol: caja de herramientas académicas\n\n \n\n\n\n\n\nCharla virtual : Exposición de resultados \n\n\n\nSi sos C3 de la Sede Rodrigo Facio y te interesa reforzar tus bases académicas para la investigación\, te invitamos a participar en esta actividad \n\n\n\n\n¿Cuando?: Jueves 22 de junio\n¿Horario?: De 11:00 a.m. a 12:00 a.m.\nRequiere inscripción previa: https://forms.gle/tZWbqQJ7JTfxvdPt8\nInformación: 2511-3414
URL:https://orientacion.ucr.ac.cr/evento/girasol-exposicion-de-resultados-22-de-junio/
LOCATION:Virtual
CATEGORIES:Activos
ATTACH;FMTTYPE=image/png:https://orientacion.ucr.ac.cr/wp-content/uploads/2023/05/GirasolIco.png
END:VEVENT
END:VCALENDAR