

BEGIN:VCALENDAR
VERSION:2.0
PRODID:-//Oficina de Orientación - ECPv6.15.17//NONSGML v1.0//EN
CALSCALE:GREGORIAN
METHOD:PUBLISH
X-WR-CALNAME:Oficina de Orientación
X-ORIGINAL-URL:https://orientacion.ucr.ac.cr
X-WR-CALDESC:Eventos para Oficina de Orientación
REFRESH-INTERVAL;VALUE=DURATION:PT1H
X-Robots-Tag:noindex
X-PUBLISHED-TTL:PT1H
BEGIN:VTIMEZONE
TZID:UTC
BEGIN:STANDARD
TZOFFSETFROM:+0000
TZOFFSETTO:+0000
TZNAME:UTC
DTSTART:20220101T000000
END:STANDARD
END:VTIMEZONE
BEGIN:VEVENT
DTSTART;VALUE=DATE:20230606
DTEND;VALUE=DATE:20230613
DTSTAMP:20260425T045259
CREATED:20230606T202031Z
LAST-MODIFIED:20230606T202100Z
UID:30731-1686009600-1686614399@orientacion.ucr.ac.cr
SUMMARY:Taller Virtual: Redacción para trabajo final de graduación
DESCRIPTION:Redacción para trabajo final de graduación\n\n\n \n\n\n\n\n\nTaller virtual: Redacción para TFG \nInscripción:\n\n\nPeriodo de inscripción: del 6 al 12 de junio\nInscríbete aquí\n\nInformación del taller: \nLecciones: 13\, 14\, 15\, 20\, 21 y 22 de junio.\nHorario: de 7:00 a 9:00 p.m.\n \n\nActividad exclusiva para estudiantes UCR\n\n\n\n\n\n\n\nPara más información: 2511-8776
URL:https://orientacion.ucr.ac.cr/evento/taller-virtual-redaccion-para-trabajo-final-de-graduacion/
LOCATION:Virtual
CATEGORIES:Activos
ATTACH;FMTTYPE=image/png:https://orientacion.ucr.ac.cr/wp-content/uploads/2023/05/CASE-color-actividades.png
END:VEVENT
END:VCALENDAR