

BEGIN:VCALENDAR
VERSION:2.0
PRODID:-//Oficina de Orientación - ECPv6.15.17//NONSGML v1.0//EN
CALSCALE:GREGORIAN
METHOD:PUBLISH
X-WR-CALNAME:Oficina de Orientación
X-ORIGINAL-URL:https://orientacion.ucr.ac.cr
X-WR-CALDESC:Eventos para Oficina de Orientación
REFRESH-INTERVAL;VALUE=DURATION:PT1H
X-Robots-Tag:noindex
X-PUBLISHED-TTL:PT1H
BEGIN:VTIMEZONE
TZID:UTC
BEGIN:STANDARD
TZOFFSETFROM:+0000
TZOFFSETTO:+0000
TZNAME:UTC
DTSTART:20220101T000000
END:STANDARD
END:VTIMEZONE
BEGIN:VEVENT
DTSTART;VALUE=DATE:20230502
DTEND;VALUE=DATE:20230509
DTSTAMP:20260422T094908
CREATED:20230509T033444Z
LAST-MODIFIED:20230509T204124Z
UID:30562-1682985600-1683590399@orientacion.ucr.ac.cr
SUMMARY:Verifica tu inscripción al examen de admisión
DESCRIPTION:Camino a la U\n\n \n  \n\n\n\n\n\nSistema de Toma de Decisiones Vocacionales: Verificación de inscripción a la Prueba de Aptitud Académica (Examen de Admisión)\n\n\n\n\n\nSi te inscribiste al examen de admisión\, DEBÉS verificar tu correcta inscripción de la UCR y/o UNA\n\n\n\n\n¿Cuando?: del 2 al 8 de Mayo\n¿Dónde?: https://ori.ucr.ac.cr/admision\n \nPara mayor información podés consultar el Folleto de información proceso de admisión UCR disponible en\nhttps://ori.ucr.ac.cr/…/2023/Folleto-2-web-2023-2024.pdf\nPara más información del proceso de admisión consultar https://caminoalau.ucr.ac.cr/covo/ec/index.xhtml
URL:https://orientacion.ucr.ac.cr/evento/verifica-tu-inscripcion-al-examen-de-admision/
LOCATION:Camino a la U
ATTACH;FMTTYPE=image/jpeg:https://orientacion.ucr.ac.cr/wp-content/uploads/2022/12/CaminoalauIco.jpg
END:VEVENT
END:VCALENDAR