

BEGIN:VCALENDAR
VERSION:2.0
PRODID:-//Oficina de Orientación - ECPv6.15.17//NONSGML v1.0//EN
CALSCALE:GREGORIAN
METHOD:PUBLISH
X-WR-CALNAME:Oficina de Orientación
X-ORIGINAL-URL:https://orientacion.ucr.ac.cr
X-WR-CALDESC:Eventos para Oficina de Orientación
REFRESH-INTERVAL;VALUE=DURATION:PT1H
X-Robots-Tag:noindex
X-PUBLISHED-TTL:PT1H
BEGIN:VTIMEZONE
TZID:UTC
BEGIN:STANDARD
TZOFFSETFROM:+0000
TZOFFSETTO:+0000
TZNAME:UTC
DTSTART:20220101T000000
END:STANDARD
END:VTIMEZONE
BEGIN:VEVENT
DTSTART;VALUE=DATE:20230130
DTEND;VALUE=DATE:20230216
DTSTAMP:20260424T111448
CREATED:20230201T013705Z
LAST-MODIFIED:20230509T031429Z
UID:30220-1675036800-1676505599@orientacion.ucr.ac.cr
SUMMARY:Talleres de nivelación en química - Primer Ingreso -
DESCRIPTION:Talleres de nivelación en química para C3\n\n\nSi tu plan de estudios incluye cursos de química\, podés recibir estos talleres. A continuación los pasos a seguir:\n \n\n\n\n\n\n\n\n\n1. Realizá una prueba diagnóstica\nIngresá a la plataforma UCR GLOBAL (https://global.ucr.ac.cr/login/index.php) y regístrate con tu correo institucional. Buscá el curso “Taller de Nivelación en Química” y realizá la prueba.  \nEstará disponible del 30 de enero al 05 de febrero\, será en línea y asincrónico.\n \n2. Esperá la recomendación\nSegún tu nota\, se te recomendará participar de los talleres de nivelación\, que serán presenciales del 16 de febrero al 3 de marzo. Si lo requerís\, consultá por opciones virtuales.\n \n3. Inscríbite al Taller de Nivelación\nLa inscripción a los Talleres de Nivelación será del 13 al 15 de febrero vía telefónica a los números: 2511-3414\, 2511-6388\, 2511-5662\, 2511-8776\, 2511-5984\, 2511-5985 y 2511-1968.\nSe ofrecerá para todas las sedes y recintos y el cupo es limitado. \n 
URL:https://orientacion.ucr.ac.cr/evento/talleres-de-nivelacion-en-quimica-primer-ingreso/
LOCATION:UCR Global
ATTACH;FMTTYPE=image/png:https://orientacion.ucr.ac.cr/wp-content/uploads/2022/06/OOLoguito.png
END:VEVENT
END:VCALENDAR